BEGIN:VCALENDAR
VERSION:2.0
PRODID:-//bobbie-jane gardner - ECPv6.15.17.1//NONSGML v1.0//EN
CALSCALE:GREGORIAN
METHOD:PUBLISH
X-ORIGINAL-URL:https://bobbiejanegardner.com
X-WR-CALDESC:Events for bobbie-jane gardner
REFRESH-INTERVAL;VALUE=DURATION:PT1H
X-Robots-Tag:noindex
X-PUBLISHED-TTL:PT1H
BEGIN:VTIMEZONE
TZID:Europe/London
BEGIN:DAYLIGHT
TZOFFSETFROM:+0000
TZOFFSETTO:+0100
TZNAME:BST
DTSTART:20230326T010000
END:DAYLIGHT
BEGIN:STANDARD
TZOFFSETFROM:+0100
TZOFFSETTO:+0000
TZNAME:GMT
DTSTART:20231029T010000
END:STANDARD
BEGIN:DAYLIGHT
TZOFFSETFROM:+0000
TZOFFSETTO:+0100
TZNAME:BST
DTSTART:20240331T010000
END:DAYLIGHT
BEGIN:STANDARD
TZOFFSETFROM:+0100
TZOFFSETTO:+0000
TZNAME:GMT
DTSTART:20241027T010000
END:STANDARD
BEGIN:DAYLIGHT
TZOFFSETFROM:+0000
TZOFFSETTO:+0100
TZNAME:BST
DTSTART:20250330T010000
END:DAYLIGHT
BEGIN:STANDARD
TZOFFSETFROM:+0100
TZOFFSETTO:+0000
TZNAME:GMT
DTSTART:20251026T010000
END:STANDARD
END:VTIMEZONE
BEGIN:VEVENT
DTSTART;TZID=Europe/London:20241025T193000
DTEND;TZID=Europe/London:20241025T210000
DTSTAMP:20260425T022115
CREATED:20240912T141854Z
LAST-MODIFIED:20240912T141854Z
UID:8137-1729884600-1729890000@bobbiejanegardner.com
SUMMARY:‘joyful’ performed by Tom Kerstens’ G+ Ensemble
DESCRIPTION:"Love and nature are in full bloom in this programme of evocative imagery and shimmering harmony. Selections from Claude Le Jeune’s innovative 16th-century Le printemps set spring as the season of love. Love is the timeless subject for Palestrina - a giant of the Italian Renaissance - and for Jean-Yves Daniel-Lesur\, who brings impressionistic colour… Continue reading rb scholars perform new work ‘human flowers’
URL:https://bobbiejanegardner.com/performance/joyful-performed-by-tom-kerstens-g-ensemble-2/
LOCATION:Kings Place\, 90 York Way\, London\, N1 9AG\, United Kingdom
END:VEVENT
BEGIN:VEVENT
DTSTART;TZID=Europe/London:20241026T130000
DTEND;TZID=Europe/London:20241026T150000
DTSTAMP:20260425T022115
CREATED:20240912T143615Z
LAST-MODIFIED:20240912T143615Z
UID:8140-1729947600-1729954800@bobbiejanegardner.com
SUMMARY:'self love' premiered by Duo Juno
DESCRIPTION:"Love and nature are in full bloom in this programme of evocative imagery and shimmering harmony. Selections from Claude Le Jeune’s innovative 16th-century Le printemps set spring as the season of love. Love is the timeless subject for Palestrina - a giant of the Italian Renaissance - and for Jean-Yves Daniel-Lesur\, who brings impressionistic colour… Continue reading rb scholars perform new work ‘human flowers’
URL:https://bobbiejanegardner.com/performance/self-love-premiered-by-duo-juno/
LOCATION:Kings Place\, 90 York Way\, London\, N1 9AG\, United Kingdom
END:VEVENT
END:VCALENDAR