BEGIN:VCALENDAR
VERSION:2.0
PRODID:-//bobbie-jane gardner - ECPv6.15.17.1//NONSGML v1.0//EN
CALSCALE:GREGORIAN
METHOD:PUBLISH
X-ORIGINAL-URL:https://bobbiejanegardner.com
X-WR-CALDESC:Events for bobbie-jane gardner
REFRESH-INTERVAL;VALUE=DURATION:PT1H
X-Robots-Tag:noindex
X-PUBLISHED-TTL:PT1H
BEGIN:VTIMEZONE
TZID:Europe/London
BEGIN:DAYLIGHT
TZOFFSETFROM:+0000
TZOFFSETTO:+0100
TZNAME:BST
DTSTART:20240331T010000
END:DAYLIGHT
BEGIN:STANDARD
TZOFFSETFROM:+0100
TZOFFSETTO:+0000
TZNAME:GMT
DTSTART:20241027T010000
END:STANDARD
BEGIN:DAYLIGHT
TZOFFSETFROM:+0000
TZOFFSETTO:+0100
TZNAME:BST
DTSTART:20250330T010000
END:DAYLIGHT
BEGIN:STANDARD
TZOFFSETFROM:+0100
TZOFFSETTO:+0000
TZNAME:GMT
DTSTART:20251026T010000
END:STANDARD
BEGIN:DAYLIGHT
TZOFFSETFROM:+0000
TZOFFSETTO:+0100
TZNAME:BST
DTSTART:20260329T010000
END:DAYLIGHT
BEGIN:STANDARD
TZOFFSETFROM:+0100
TZOFFSETTO:+0000
TZNAME:GMT
DTSTART:20261025T010000
END:STANDARD
END:VTIMEZONE
BEGIN:VEVENT
DTSTART;TZID=Europe/London:20250314T070000
DTEND;TZID=Europe/London:20250314T200000
DTSTAMP:20260423T225846
CREATED:20241223T221846Z
LAST-MODIFIED:20241223T221846Z
UID:8167-1741935600-1741982400@bobbiejanegardner.com
SUMMARY:why do i trawl the delicate mesh of my mind over the snagged and broken floor of the past?
DESCRIPTION:"Love and nature are in full bloom in this programme of evocative imagery and shimmering harmony. Selections from Claude Le Jeune’s innovative 16th-century Le printemps set spring as the season… Continue reading rb scholars perform new work ‘human flowers’
URL:https://bobbiejanegardner.com/performance/why-do-i-trawl-the-delicate-mesh-of-my-mind-over-the-snagged-and-broken-floor-of-the-past/
END:VEVENT
END:VCALENDAR