BEGIN:VCALENDAR
VERSION:2.0
PRODID:-//bobbie-jane gardner - ECPv6.15.17.1//NONSGML v1.0//EN
CALSCALE:GREGORIAN
METHOD:PUBLISH
X-WR-CALNAME:bobbie-jane gardner
X-ORIGINAL-URL:https://bobbiejanegardner.com
X-WR-CALDESC:Events for bobbie-jane gardner
REFRESH-INTERVAL;VALUE=DURATION:PT1H
X-Robots-Tag:noindex
X-PUBLISHED-TTL:PT1H
BEGIN:VTIMEZONE
TZID:Europe/London
BEGIN:DAYLIGHT
TZOFFSETFROM:+0000
TZOFFSETTO:+0100
TZNAME:BST
DTSTART:20230326T010000
END:DAYLIGHT
BEGIN:STANDARD
TZOFFSETFROM:+0100
TZOFFSETTO:+0000
TZNAME:GMT
DTSTART:20231029T010000
END:STANDARD
BEGIN:DAYLIGHT
TZOFFSETFROM:+0000
TZOFFSETTO:+0100
TZNAME:BST
DTSTART:20240331T010000
END:DAYLIGHT
BEGIN:STANDARD
TZOFFSETFROM:+0100
TZOFFSETTO:+0000
TZNAME:GMT
DTSTART:20241027T010000
END:STANDARD
BEGIN:DAYLIGHT
TZOFFSETFROM:+0000
TZOFFSETTO:+0100
TZNAME:BST
DTSTART:20250330T010000
END:DAYLIGHT
BEGIN:STANDARD
TZOFFSETFROM:+0100
TZOFFSETTO:+0000
TZNAME:GMT
DTSTART:20251026T010000
END:STANDARD
END:VTIMEZONE
BEGIN:VEVENT
DTSTART;TZID=Europe/London:20241201T160000
DTEND;TZID=Europe/London:20241201T173000
DTSTAMP:20260424T124130
CREATED:20240811T201949Z
LAST-MODIFIED:20240912T151001Z
UID:8119-1733068800-1733074200@bobbiejanegardner.com
SUMMARY:'the burning house' premieres at Warwick Arts Centre
DESCRIPTION:"Love and nature are in full bloom in this programme of evocative imagery and shimmering harmony. Selections from Claude Le Jeune’s innovative 16th-century Le printemps set spring as the season… Continue reading rb scholars perform new work ‘human flowers’
URL:https://bobbiejanegardner.com/performance/the-burning-house/
LOCATION:Warwick Arts Centre\, University of Warwick\, Coventry\, CV4 7AL
END:VEVENT
END:VCALENDAR